BEGIN:VCALENDAR
VERSION:2.0
PRODID:Events Booking
BEGIN:VEVENT
UID:69eb8090683be
SUMMARY:Trainingszeitraum 2
DESCRIPTION:
LOCATION:Dörnichtweg\, Dresden\, 01465 Sachsen\, Deutschland
DTSTART:20260817T153000Z
DTEND:20250910T220000Z
DTSTAMP:20250724T084039Z
ORGANIZER;CN=Beach and Camp e.V.:MAILTO:info@beachandcamp.de
GEO:51.129196;13.854405
X-APPLE-STRUCTURED-LOCATION;VALUE=URI;X-ADDRESS=Dörnichtweg\, Dresden\, 01
 465 Sachsen\, Deutschland;X-APPLE-RADIUS=72;X-TITLE=Beach and Camp e.V.:51
 .129196;13.854405
END:VEVENT
END:VCALENDAR