BEGIN:VCALENDAR
VERSION:2.0
PRODID:Events Booking
BEGIN:VEVENT
UID:69eb94e7f2eb6
SUMMARY:Sächsische Seniorenmeisterschaft Herren 2026
DESCRIPTION:Liebe Senioren\,\nauch dieses Jahr finden die sächsische Seni
 oren Meisterschaft in Dresden statt. Und das erste mal bei Beach and Camp.
  Wir freuen uns auf Euch.\nAufgrund der 6 Felder staffeln wir das Turnier.
  Je nachh Anzahl der Anmeldungen. 2 Tage vor Turnier wird es eine ausführ
 liche Mail mit allen Informationen geben. \nDie Herren treffen sich 09:30
  Uhr und 10:00 Uhr ist Spielbeginn - wer nicht rechtzeitig vor Ort ist\, b
 ekommt das Spiel als verolren gewertet!\nDie Damen treffen sich 09:30 Uhr 
 und 10:00 Uhr ist Spielbeginn - wer nicht rechtzeitig vor Ort ist\, bekomm
 t das Spiel als verolren gewertet!\nDieses Jahr gehen die Senioren MEister
 schaften über 2 Tage!\nWir können nicht absehen wie viele Teams sind anm
 elden\, daher behalten wir uns vor ggf. den Modus und die Spielzeiten anzu
 passen.\nWir freuen uns auf Euch\,\nBeach and Camp
LOCATION:Dörnichtweg\, Dresden\, 01465 Sachsen\, Deutschland
DTSTART:20260822T080000Z
DTEND:20260823T160000Z
DTSTAMP:20260105T112135Z
ORGANIZER;CN=Beach and Camp e.V.:MAILTO:info@beachandcamp.de
GEO:51.129196;13.854405
X-APPLE-STRUCTURED-LOCATION;VALUE=URI;X-ADDRESS=Dörnichtweg\, Dresden\, 01
 465 Sachsen\, Deutschland;X-APPLE-RADIUS=72;X-TITLE=Beach and Camp e.V.:51
 .129196;13.854405
END:VEVENT
END:VCALENDAR