BEGIN:VCALENDAR
VERSION:2.0
PRODID:Events Booking
BEGIN:VEVENT
UID:69eb7c0ff03fb
SUMMARY:Fun #1
DESCRIPTION:*** Beach and Camp Turnier der FUN Serie ***
 Im Vordergrund s
 teht\, wie immer\, der Spaß daran sich mit anderen Teams zu messen.Gespie
 lt wird 2er-Beach. Frauen-\, Männer oder Mixed Teams sind willkommen und 
 spielen gegeneinander.
LOCATION:Dörnichtweg\, Dresden\, 01465 Sachsen\, Deutschland
DTSTART:20260525T080000Z
DTEND:20260525T160000Z
DTSTAMP:20260105T105229Z
ORGANIZER;CN=Beach and Camp e.V.:MAILTO:info@beachandcamp.de
GEO:51.129196;13.854405
X-APPLE-STRUCTURED-LOCATION;VALUE=URI;X-ADDRESS=Dörnichtweg\, Dresden\, 01
 465 Sachsen\, Deutschland;X-APPLE-RADIUS=72;X-TITLE=Beach and Camp e.V.:51
 .129196;13.854405
END:VEVENT
END:VCALENDAR