BEGIN:VCALENDAR
VERSION:2.0
PRODID:Events Booking
BEGIN:VEVENT
UID:69eb7f35901e0
SUMMARY:C-Cup #3 Mixed
DESCRIPTION:*** Beach and Camp C- und B-Cup Mixed***\n\nSpielmodus: Poolpla
 y + Single Out\nduschen vor Ort\nAnzahl der Mannschaften: siehe www.ssvb.o
 rg\n
LOCATION:Dörnichtweg\, Dresden\, 01465 Sachsen\, Deutschland
DTSTART:20260621T080000Z
DTEND:20260621T160000Z
DTSTAMP:20260328T112510Z
ORGANIZER;CN=Beach and Camp e.V.:MAILTO:info@beachandcamp.de
GEO:51.129196;13.854405
X-APPLE-STRUCTURED-LOCATION;VALUE=URI;X-ADDRESS=Dörnichtweg\, Dresden\, 01
 465 Sachsen\, Deutschland;X-APPLE-RADIUS=72;X-TITLE=Beach and Camp e.V.:51
 .129196;13.854405
END:VEVENT
END:VCALENDAR