BEGIN:VCALENDAR
VERSION:2.0
PRODID:Events Booking
BEGIN:VEVENT
UID:69eb7d79ace83
SUMMARY:C-Cup #4 Mixed
DESCRIPTION:*** Beach and Camp C- und B-Cup Mixed***
 
 Spielmodus: Poolp
 lay + Single Out
 duschen vor Ort
 Anzahl der Mannschaften: siehe www.ss
 vb.org
 
LOCATION:Dörnichtweg\, Dresden\, 01465 Sachsen\, Deutschland
DTSTART:20260705T080000Z
DTEND:20260705T160000Z
DTSTAMP:20260329T105953Z
ORGANIZER;CN=Beach and Camp e.V.:MAILTO:info@beachandcamp.de
GEO:51.129196;13.854405
X-APPLE-STRUCTURED-LOCATION;VALUE=URI;X-ADDRESS=Dörnichtweg\, Dresden\, 01
 465 Sachsen\, Deutschland;X-APPLE-RADIUS=72;X-TITLE=Beach and Camp e.V.:51
 .129196;13.854405
END:VEVENT
END:VCALENDAR