BEGIN:VCALENDAR
VERSION:2.0
PRODID:Events Booking
BEGIN:VEVENT
UID:69eb6d08f3475
SUMMARY:C-Cup #2 Herren
DESCRIPTION:*** Beach and Camp C-Cup Damen und Herren***\n\nSpielmodus: Poo
 lplay + Single Out\nduschen vor Ort\nAnazhl der Mannschaften siehe www.ssv
 b.org\n
LOCATION:Dörnichtweg\, Dresden\, 01465 Sachsen\, Deutschland
DTSTART:20260704T080000Z
DTEND:20260704T160000Z
DTSTAMP:20260328T105308Z
ORGANIZER;CN=Beach and Camp e.V.:MAILTO:info@beachandcamp.de
GEO:51.129196;13.854405
X-APPLE-STRUCTURED-LOCATION;VALUE=URI;X-ADDRESS=Dörnichtweg\, Dresden\, 01
 465 Sachsen\, Deutschland;X-APPLE-RADIUS=72;X-TITLE=Beach and Camp e.V.:51
 .129196;13.854405
END:VEVENT
END:VCALENDAR