BEGIN:VCALENDAR
VERSION:2.0
PRODID:Events Booking
BEGIN:VEVENT
UID:69eb6d01ebac2
SUMMARY:C-Cup #1 Damen
DESCRIPTION:*** Beach and Camp C-Cup Damen und Herren***
 
 Spielmodus: P
 oolplay + Single Out
 duschen vor Ort
 Anazhl der Mannschaften siehe www
 .ssvb.org
 
LOCATION:Dörnichtweg\, Dresden\, 01465 Sachsen\, Deutschland
DTSTART:20260606T080000Z
DTEND:20260606T160000Z
DTSTAMP:20260105T110149Z
ORGANIZER;CN=Beach and Camp e.V.:MAILTO:info@beachandcamp.de
GEO:51.129196;13.854405
X-APPLE-STRUCTURED-LOCATION;VALUE=URI;X-ADDRESS=Dörnichtweg\, Dresden\, 01
 465 Sachsen\, Deutschland;X-APPLE-RADIUS=72;X-TITLE=Beach and Camp e.V.:51
 .129196;13.854405
END:VEVENT
END:VCALENDAR